BEGIN:VCALENDAR
VERSION:2.0
PRODID:-//ChamberMaster//Event Calendar 2.0//EN
METHOD:PUBLISH
X-PUBLISHED-TTL:P3D
REFRESH-INTERVAL:P3D
CALSCALE:GREGORIAN
BEGIN:VEVENT
DTSTART:20251007T211500Z
DTEND:20251007T214500Z
X-MICROSOFT-CDO-ALLDAYEVENT:FALSE
SUMMARY:Ribbon Cutting - Caravel Autism Health - 10/7/25
DESCRIPTION:RIBBON CUTTING\n\n\n\nPlease join us
X-ALT-DESC;FMTTYPE=text/html:<br />\n<br />\n<strong><em><span style="font-size:16px\;"><span style="color:#0000FF\;">RIBBON CUTTING</span></span></em></strong><br />\n<br />\nPlease join us&nbsp\;
LOCATION:Caravel Autism Health 226 Park Ave. S.\, Ste 200 Saint Cloud\, MN 56301
UID:e.2754.12365
SEQUENCE:3
DTSTAMP:20260422T215850Z
URL:https://chambermaster.businesscentralmagazine.com/events/details/ribbon-cutting-caravel-autism-health-10-7-25-12365
END:VEVENT

END:VCALENDAR
