BEGIN:VCALENDAR
VERSION:2.0
PRODID:-//ChamberMaster//Event Calendar 2.0//EN
METHOD:PUBLISH
X-PUBLISHED-TTL:P3D
REFRESH-INTERVAL:P3D
CALSCALE:GREGORIAN
BEGIN:VEVENT
DTSTART:20251002T193000Z
DTEND:20251002T200000Z
X-MICROSOFT-CDO-ALLDAYEVENT:FALSE
SUMMARY:Ribbon Cutting - Bolton & Menk\, Inc.
DESCRIPTION:RIBBON CUTTING\n\n\n\nPlease join us
X-ALT-DESC;FMTTYPE=text/html:<br />\n<br />\n<strong><em><span style="font-size:16px\;"><span style="color:#0000FF\;">RIBBON CUTTING</span></span></em></strong><br />\n<br />\nPlease join us&nbsp\;
LOCATION:Bolton & Menk\, Inc. 4140 Thielman Lane\, Ste 204 Saint Cloud\, MN 56301
UID:e.2754.12364
SEQUENCE:3
DTSTAMP:20260422T205243Z
URL:https://chambermaster.businesscentralmagazine.com/events/details/ribbon-cutting-bolton-menk-inc-12364
END:VEVENT

END:VCALENDAR
