BEGIN:VCALENDAR
VERSION:2.0
PRODID:-//ChamberMaster//Event Calendar 2.0//EN
METHOD:PUBLISH
X-PUBLISHED-TTL:P3D
REFRESH-INTERVAL:P3D
CALSCALE:GREGORIAN
BEGIN:VEVENT
DTSTART:19960410T050000Z
DTEND:19960410T050000Z
X-MICROSOFT-CDO-ALLDAYEVENT:FALSE
SUMMARY:Reasonable Accommodations for Employees with Disabilities
DESCRIPTION:Reasonable Accommodations for Employees with Disabilities
X-ALT-DESC;FMTTYPE=text/html:Reasonable Accommodations for Employees with Disabilities
LOCATION:Eagles Club Meeting Room
UID:e.2754.2208
SEQUENCE:3
DTSTAMP:20260423T184550Z
URL:https://chambermaster.businesscentralmagazine.com/events/details/reasonable-accommodations-for-employees-with-disabilities-04-10-1996-2208
END:VEVENT

END:VCALENDAR
