BEGIN:VCALENDAR
VERSION:2.0
PRODID:-//ChamberMaster//Event Calendar 2.0//EN
METHOD:PUBLISH
X-PUBLISHED-TTL:P3D
REFRESH-INTERVAL:P3D
CALSCALE:GREGORIAN
BEGIN:VEVENT
DTSTART:20250616T170000Z
DTEND:20250616T223000Z
X-MICROSOFT-CDO-ALLDAYEVENT:FALSE
SUMMARY:Quiet Oaks Golf Classic
DESCRIPTION:Quiet Oaks Golf Classic raises funds to provide compassionate care to our residents at end of life. This event is full of fun and friends - register today!
X-ALT-DESC;FMTTYPE=text/html:Quiet Oaks Golf Classic raises funds to provide compassionate care to our residents at end of life.&nbsp\;This event is full of fun and friends - register today!
LOCATION:Territory Golf Club
UID:e.2754.11486
SEQUENCE:3
DTSTAMP:20260423T024411Z
URL:https://chambermaster.businesscentralmagazine.com/events/details/quiet-oaks-golf-classic-11486
END:VEVENT

END:VCALENDAR
