BEGIN:VCALENDAR
VERSION:2.0
PRODID:-//ChamberMaster//Event Calendar 2.0//EN
METHOD:PUBLISH
X-PUBLISHED-TTL:P3D
REFRESH-INTERVAL:P3D
CALSCALE:GREGORIAN
BEGIN:VEVENT
DTSTART:20281115T010000Z
DTEND:20281115T020000Z
X-MICROSOFT-CDO-ALLDAYEVENT:FALSE
SUMMARY:Quiet Oaks Fellowship Grief Meeting
DESCRIPTION:This fellowship group is for anyone who is grieving and wants to learn more about grief in their own personal journey. These meetings take place via zoom\, on the second Tuesday of each month at 7:00 pm. Featuring a different speaker and a different topic around grief\, offering a safe space to learn about grief.
X-ALT-DESC;FMTTYPE=text/html:<span style="background-color:rgb(255\, 255\, 255)\; color:rgb(91\, 96\, 103)\; font-family:red hat text\,sans-serif\; font-size:16px">This fellowship group is for anyone who is grieving and wants to learn more about grief in their own personal journey. These meetings take place via zoom\, on the </span><strong>second Tuesday of each month at 7:00 pm</strong><span style="background-color:rgb(255\, 255\, 255)\; color:rgb(91\, 96\, 103)\; font-family:red hat text\,sans-serif\; font-size:16px">. Featuring a different speaker and a different topic around grief\, offering a safe space to learn about grief. </span>
LOCATION:https://us02web.zoom.us/j/82824142523
UID:e.2754.11991
SEQUENCE:3
DTSTAMP:20260424T074721Z
URL:https://chambermaster.businesscentralmagazine.com/events/details/quiet-oaks-fellowship-grief-meeting-11-14-2028-11991
END:VEVENT

END:VCALENDAR
