BEGIN:VCALENDAR
VERSION:2.0
PRODID:-//ChamberMaster//Event Calendar 2.0//EN
METHOD:PUBLISH
X-PUBLISHED-TTL:P3D
REFRESH-INTERVAL:P3D
CALSCALE:GREGORIAN
BEGIN:VEVENT
DTSTART;VALUE=DATE:19970729
DTEND;VALUE=DATE:19970730
TRANSP:TRANSPARENT
X-MICROSOFT-CDO-ALLDAYEVENT:TRUE
SUMMARY:Proffitt's lunch with Brad Martin
DESCRIPTION:
X-ALT-DESC;FMTTYPE=text/html:
LOCATION:Radisson
UID:e.2754.568
SEQUENCE:3
DTSTAMP:20260422T194900Z
URL:https://chambermaster.businesscentralmagazine.com/events/details/proffitt-s-lunch-with-brad-martin-07-29-1997-568
END:VEVENT

END:VCALENDAR
