BEGIN:VCALENDAR
VERSION:2.0
PRODID:-//ChamberMaster//Event Calendar 2.0//EN
METHOD:PUBLISH
X-PUBLISHED-TTL:P3D
REFRESH-INTERVAL:P3D
CALSCALE:GREGORIAN
BEGIN:VEVENT
DTSTART:19970624T050000Z
DTEND:19970625T050000Z
X-MICROSOFT-CDO-ALLDAYEVENT:FALSE
SUMMARY:Planning Conference @ Clearwater Estates
DESCRIPTION:Planning Conference @ Clearwater Estates
X-ALT-DESC;FMTTYPE=text/html:Planning Conference @ Clearwater Estates
LOCATION:Clearwater Estates
UID:e.2754.2253
SEQUENCE:3
DTSTAMP:20260422T211359Z
URL:https://chambermaster.businesscentralmagazine.com/events/details/planning-conference-clearwater-estates-06-24-1997-2253
END:VEVENT

END:VCALENDAR
