BEGIN:VCALENDAR
VERSION:2.0
PRODID:-//ChamberMaster//Event Calendar 2.0//EN
METHOD:PUBLISH
X-PUBLISHED-TTL:P3D
REFRESH-INTERVAL:P3D
CALSCALE:GREGORIAN
BEGIN:VEVENT
DTSTART:20250929T143000Z
DTEND:20250929T163000Z
X-MICROSOFT-CDO-ALLDAYEVENT:FALSE
SUMMARY:Paid Leave Employer Engagement - 9/29/25
DESCRIPTION:Paid Leave is coming to Minnesota. Is your business ready?\n\n\nStarting Jan. 1\, 2026\, Minnesota Paid Leave will offer payments and job protections to Minnesotans when they need time off work for some of life's most important moments   like welcoming a child\, recovering from a serious illness\, or caring for a loved one. As an employer\, you play an important role in helping your employees learn about and access the program. \n\n \n\nMinnesota Paid Leave and local chambers of commerce are teaming up to hold in-person engagement sessions for employers. At these events\, you'll get an overview of the program\, hear the latest updates\, and get answers to your questions. Learn how to set up your Paid Leave accounts\, designate a Paid Leave Administrator\, and make key decisions that will shape how Paid Leave works in your organization. \n\n \nThe St. Cloud Area Chamber is proud to host Minnesota Paid Leave for an information and engagement session: \n \n\nDate: Monday\, September 29\, 2025\n\nTime: 9:30 - 11:30 AM  (Doors Open at 9:30 a.m.\, meeting at 10:00 a.m.\n\nLocation: St. Cloud City Hall\, 1201 7th St. S.\, St. Cloud\, MN 56301-7516\n\nRegister Here \n\n \n\nAll local employers are invited to attend. Advance registration is welcomed but not required. Light refreshments will be served.
X-ALT-DESC;FMTTYPE=text/html:<h1 style="margin-top:12.0pt\;margin-right:0in\;margin-bottom:0in\;margin-left:0in\;"><strong><span style="color:#2F5496\;"><span style="font-family:calibri\,sans-serif\;"><span style="font-size:16.0pt\;">Paid Leave is coming to Minnesota. Is your business ready?</span></span></span></strong></h1>\n<br />\n<span style="color:black\;"><span style="font-size:11.0pt\;">Starting Jan. 1\, 2026\, Minnesota Paid Leave will offer payments and job protections to Minnesotans when they need time off work for some of life&rsquo\;s most important moments &ndash\; like welcoming a child\, recovering from a serious illness\, or caring for a loved one. As an employer\, you play an important role in helping your employees learn about and access the program. </span></span><br />\n&nbsp\;<br />\n<span style="color:black\;"><span style="font-size:11.0pt\;">Minnesota Paid Leave and local chambers of commerce are teaming up to hold in-person engagement sessions for employers. At these events\, you&#39\;ll get an overview of the program\, hear the latest updates\, and get answers to your questions. Learn how to set up your Paid Leave accounts\, designate a Paid Leave Administrator\, and make key decisions that will shape how Paid Leave works in your organization. </span></span><br />\n&nbsp\;\n<h2 style="margin-top:2.0pt\;margin-right:0in\;margin-bottom:0in\;margin-left:0in\;"><strong><span style="color:#2F5496\;"><span style="font-family:aptos\,sans-serif\;"><span style="font-size:13.0pt\;">The St. Cloud Area Chamber is proud to host Minnesota Paid Leave for an information and engagement session: </span></span></span></strong></h2>\n&nbsp\;<br />\n<strong><span style="color:black\;"><span style="font-size:14.0pt\;">Date: Monday\, September 29\, 2025</span></span><br />\n<span style="color:black\;"><span style="font-size:14.0pt\;">Time: 9:30 - 11:30 AM&nbsp\; (Doors Open at 9:30 a.m.\, meeting at 10:00 a.m.</span></span><br />\n<span style="color:black\;"><span style="font-size:14.0pt\;">Location: St. Cloud City Hall\, 1201 7th St. S.\, St. Cloud\, MN 56301-7516</span></span></strong><br />\n<span style="font-size:14.0pt\;"><a href="https://deedmn.formstack.com/forms/employer_reg_20250929" target="_blank"><span style="color:#0000FF\;"><strong>Register Here</strong></span></a> </span><br />\n&nbsp\;<br />\n<span style="color:black\;"><span style="font-family:aptos\,sans-serif\;"><span style="font-size:11.0pt\;">All local employers are invited to attend. Advance registration is welcomed but not required. Light refreshments will be served.</span></span></span>
LOCATION:St. Cloud City Hall 1201 7th St. S.\, St. Cloud\, MN 56301-7516
UID:e.2754.12356
SEQUENCE:3
DTSTAMP:20260422T221921Z
URL:https://chambermaster.businesscentralmagazine.com/events/details/paid-leave-employer-engagement-9-29-25-12356
END:VEVENT

END:VCALENDAR
