BEGIN:VCALENDAR
VERSION:2.0
PRODID:-//ChamberMaster//Event Calendar 2.0//EN
METHOD:PUBLISH
X-PUBLISHED-TTL:P3D
REFRESH-INTERVAL:P3D
CALSCALE:GREGORIAN
BEGIN:VEVENT
DTSTART:20250918T213000Z
DTEND:20250919T003000Z
X-MICROSOFT-CDO-ALLDAYEVENT:FALSE
SUMMARY:Open House\, Chili Feed\, & Concert
DESCRIPTION:AmeriCorps Seniors RSVP volunteers are the heart of Central Minnesota\, supporting more than 160 local organizations and enriching lives by mentoring youth\, stocking food shelves\, delivering meals\, and much more.\n\n\n\nIn the past year\, 1\,180 older adults contributed over 130\,000 volunteer hours an incredible value of $4.4 million invested back into our communities.\n\n\n\nBeyond the essential services they provide\, RSVP empowers older adults to age with purpose\, remain active\, and stay socially connected. Volunteers consistently report improved well-being and reduced isolation because of their service.\n\n\n\nWe invite you to attend and support our upcoming Chili Fundraiser & Open House\, featuring a silent auction and wine pull\, chili feed\, and concert by the Rock City Big Band. \nJoin us! Thursday\, September 18 at Whitney Senior Center\n\n    4:30-6:00pm    Chili Feed\, Wine Pull\, Silent Auction\, & Whitney Tours from \n\n    6:00-6:30pm     Remarks & Recognition \n\n    6:30-7:30pm    Rock City Big Band Concert\n\n\n\nThere is no cost to attend the Open House and Concert\, donations appreciated. Chili available for purchase. \n\nLink your business to this beloved community program with an in-kind donation: \n\n  Bottles of wine (valued at $10 or more) for our Wine Pull\n\n  Silent auction items (individual items or themed baskets geared toward an adult audience)\n\n  Pot of Chili made in a commercial kitchen to serve to guests \n\n  Chili condimints\, bags of corn chips\, & beverages\n\n\n\nDonations received by September 12 will be included in our event publicity materials.\n\n\nIf you have any questions or would like to coordinate a donation\, please don't hesitate to reach out. Thank you for helping us fuel positive aging and build stronger\, more connected communities across Central Minnesota.
X-ALT-DESC;FMTTYPE=text/html:AmeriCorps Seniors RSVP volunteers are the heart of Central Minnesota\, supporting more than 160 local organizations and enriching lives by mentoring youth\, stocking food shelves\, delivering meals\, and much more.<br />\n<br />\nIn the past year\, 1\,180 older adults contributed over 130\,000 volunteer hours&mdash\;an incredible value of $4.4 million invested back into our communities.<br />\n<br />\nBeyond the essential services they provide\, RSVP empowers older adults to age with purpose\, remain active\, and stay socially connected. Volunteers consistently report improved well-being and reduced isolation because of their service.<br />\n<br />\nWe invite you to attend and support our upcoming Chili Fundraiser &amp\; Open House\, featuring a silent auction and wine pull\, chili feed\, and concert by the Rock City Big Band.&nbsp\;\n<h2 style="font-style:italic\;">Join us! Thursday\, September 18 at Whitney Senior Center</h2>\n\n<div style="background:#eee\;border:1px solid #ccc\;padding:5px 10px\;">&nbsp\; &nbsp\; 4:30-6:00pm&nbsp\;&nbsp\;&nbsp\;&nbsp\;Chili Feed\, Wine Pull\, Silent Auction\, &amp\; Whitney Tours from&nbsp\;<br />\n&nbsp\; &nbsp\; 6:00-6:30pm &nbsp\;&nbsp\;&nbsp\;&nbsp\;Remarks &amp\; Recognition&nbsp\;<br />\n&nbsp\; &nbsp\; 6:30-7:30pm&nbsp\; &nbsp\; Rock City Big Band Concert<br />\n<br />\n<span style="background-color:rgb(255\, 255\, 255)">There is no cost to attend the Open House and Concert\, donations appreciated. Chili available for purchase.&nbsp\;</span></div>\n\n<h2 style="font-style:italic\;">Link your business to this beloved community program with an in-kind donation:&nbsp\;</h2>\n\n<div style="background:#eee\;border:1px solid #ccc\;padding:5px 10px\;">&bull\; Bottles of wine (valued at $10 or more) for our Wine Pull<br />\n&bull\; Silent auction items (individual items or themed baskets geared toward an adult audience)<br />\n&bull\; Pot of Chili made in a commercial kitchen to serve to guests&nbsp\;<br />\n&bull\; Chili condimints\, bags of corn chips\, &amp\; beverages<br />\n<br />\nDonations received by September 12 will be included in our event publicity materials.</div>\n<br />\nIf you have any questions or would like to coordinate a donation\, please don&rsquo\;t hesitate to reach out. Thank you for helping us fuel positive aging and build stronger\, more connected communities across Central Minnesota.
LOCATION:Whitney Senior Center 1527 Northway Drive St Cloud\, MN 56303
UID:e.2754.12349
SEQUENCE:3
DTSTAMP:20260422T222240Z
URL:https://chambermaster.businesscentralmagazine.com/events/details/open-house-chili-feed-concert-12349
END:VEVENT

END:VCALENDAR
