BEGIN:VCALENDAR
VERSION:2.0
PRODID:-//ChamberMaster//Event Calendar 2.0//EN
METHOD:PUBLISH
X-PUBLISHED-TTL:P3D
REFRESH-INTERVAL:P3D
CALSCALE:GREGORIAN
BEGIN:VEVENT
DTSTART:19961001T050000Z
DTEND:19961001T050000Z
X-MICROSOFT-CDO-ALLDAYEVENT:FALSE
SUMMARY:October 1\, 1996 Anuual Banquet
DESCRIPTION:October 1\, 1996 Anuual Banquet
X-ALT-DESC;FMTTYPE=text/html:October 1\, 1996 Anuual Banquet
LOCATION:Civic Center
UID:e.2754.2225
SEQUENCE:3
DTSTAMP:20260423T092327Z
URL:https://chambermaster.businesscentralmagazine.com/events/details/october-1-1996-anuual-banquet-10-01-1996-2225
END:VEVENT

END:VCALENDAR
