BEGIN:VCALENDAR
VERSION:2.0
PRODID:-//ChamberMaster//Event Calendar 2.0//EN
METHOD:PUBLISH
X-PUBLISHED-TTL:P3D
REFRESH-INTERVAL:P3D
CALSCALE:GREGORIAN
BEGIN:VEVENT
DTSTART:19961001T050000Z
DTEND:19961001T050000Z
X-MICROSOFT-CDO-ALLDAYEVENT:FALSE
SUMMARY:October 1\, 1996 Annual Banquet @ the Civic Center
DESCRIPTION:October 1\, 1996 Annual Banquet @ the Civic Center
X-ALT-DESC;FMTTYPE=text/html:October 1\, 1996 Annual Banquet @ the Civic Center
LOCATION:Civic Center
UID:e.2754.2218
SEQUENCE:3
DTSTAMP:20260423T092139Z
URL:https://chambermaster.businesscentralmagazine.com/events/details/october-1-1996-annual-banquet-the-civic-center-10-01-1996-2218
END:VEVENT

END:VCALENDAR
