BEGIN:VCALENDAR
VERSION:2.0
PRODID:-//ChamberMaster//Event Calendar 2.0//EN
METHOD:PUBLISH
X-PUBLISHED-TTL:P3D
REFRESH-INTERVAL:P3D
CALSCALE:GREGORIAN
BEGIN:VEVENT
DTSTART:19961121T060000Z
DTEND:19961121T060000Z
X-MICROSOFT-CDO-ALLDAYEVENT:FALSE
SUMMARY:Nov. 21\, 1996 Bes. Enhanc. Sem. (No Bad Meetings)
DESCRIPTION:Nov. 21\, 1996 Bes. Enhanc. Sem. (No Bad Meetings)
X-ALT-DESC;FMTTYPE=text/html:Nov. 21\, 1996 Bes. Enhanc. Sem. (No Bad Meetings)
LOCATION:Michael's Steakhouse
UID:e.2754.2220
SEQUENCE:3
DTSTAMP:20260423T074947Z
URL:https://chambermaster.businesscentralmagazine.com/events/details/nov-21-1996-bes-enhanc-sem-no-bad-meetings-11-21-1996-2220
END:VEVENT

END:VCALENDAR
