BEGIN:VCALENDAR
VERSION:2.0
PRODID:-//ChamberMaster//Event Calendar 2.0//EN
METHOD:PUBLISH
X-PUBLISHED-TTL:P3D
REFRESH-INTERVAL:P3D
CALSCALE:GREGORIAN
BEGIN:VEVENT
DTSTART:19961114T060000Z
DTEND:19961114T060000Z
X-MICROSOFT-CDO-ALLDAYEVENT:FALSE
SUMMARY:Nov. 14\, 1996 Ind. Tour @ Merrill\\May Printing Co.
DESCRIPTION:Nov. 14\, 1996 Ind. Tour @ Merrill\\May Printing Co.
X-ALT-DESC;FMTTYPE=text/html:Nov. 14\, 1996 Ind. Tour @ Merrill\\May Printing Co.
LOCATION:Merrill\\May Printing Company
UID:e.2754.2226
SEQUENCE:3
DTSTAMP:20260423T074942Z
URL:https://chambermaster.businesscentralmagazine.com/events/details/nov-14-1996-ind-tour-merrill-may-printing-co-11-14-1996-2226
END:VEVENT

END:VCALENDAR
