BEGIN:VCALENDAR
VERSION:2.0
PRODID:-//ChamberMaster//Event Calendar 2.0//EN
METHOD:PUBLISH
X-PUBLISHED-TTL:P3D
REFRESH-INTERVAL:P3D
CALSCALE:GREGORIAN
BEGIN:VEVENT
DTSTART:20250430T170000Z
DTEND:20250430T180000Z
X-MICROSOFT-CDO-ALLDAYEVENT:FALSE
SUMMARY:Next Great Somali Restaurant
DESCRIPTION:The Next Great Somali Restaurant (9) lunch will be held on Wednesday\, April 30\, 12:00 pm at Kalsan Cuisine\, located at 3333 W. Division St\, St. Cloud (the old Kays Kitchen location inside the Midtown Square Mall).  We held the last lunch at this same location and we want to give everybody a chance to see how wonderful this newly opened restaurant is.  \n\n\n\nThis lunch experience continues to serve as a cultural exchange and everyone comes away with a great feeling of a better understanding of the Somali culture.The restaurant owners and members of the CAIRO organization will speak to us and are open to any and all questions. The food is tremendous and this lunch is really fun!\n\n \n\nHeads Up: We are now asking everyone to RSVP in advance for food considerations.  Please RSVP  text to Nick at 320-249-2134.
X-ALT-DESC;FMTTYPE=text/html:<br />\nThe Next Great Somali Restaurant (9) lunch will be held on Wednesday\, April 30\, 12:00 pm&nbsp\;at Kalsan Cuisine\, located at 3333 W. Division St\, St. Cloud (the old Kays Kitchen location inside the Midtown Square Mall).&nbsp\; We held the last lunch at this same location and we want to give everybody&nbsp\;a chance to see how wonderful&nbsp\;this newly opened restaurant is.&nbsp\;&nbsp\;<br />\n<br />\nThis lunch experience continues to serve as a cultural exchange and everyone&nbsp\;comes away with a great feeling of a better understanding&nbsp\;of the Somali&nbsp\;culture.The restaurant owners&nbsp\;and members&nbsp\;of the&nbsp\;CAIRO organization will speak to us and are open to any and all questions. The food is tremendous&nbsp\;and this lunch is really fun!<br />\n&nbsp\;<br />\nHeads Up:&nbsp\;We are now asking everyone&nbsp\;to RSVP in advance for food considerations<strong>.&nbsp\; Please RSVP&nbsp\; text to Nick at 320-249-2134.</strong>
LOCATION:Kalsan Cuisine 3333 W. Division St. St. Cloud\, MN
UID:e.2754.11482
SEQUENCE:3
DTSTAMP:20260423T070826Z
URL:https://chambermaster.businesscentralmagazine.com/events/details/next-great-somali-restaurant-11482
END:VEVENT

END:VCALENDAR
