BEGIN:VCALENDAR
VERSION:2.0
PRODID:-//ChamberMaster//Event Calendar 2.0//EN
METHOD:PUBLISH
X-PUBLISHED-TTL:P3D
REFRESH-INTERVAL:P3D
CALSCALE:GREGORIAN
BEGIN:VEVENT
DTSTART:20251118T173000Z
DTEND:20251118T183000Z
X-MICROSOFT-CDO-ALLDAYEVENT:FALSE
SUMMARY:New Member Mixer 11/18/25
DESCRIPTION:New Member Mixer\n\n \n\nWelcome to the Chamber! If you've joined in the past 12 months or are a new representative from a Chamber member business\, this event is for you. Stop by to meet fellow new members\, connect in a relaxed environment\, and start building valuable relationships. This is a great opportunity to learn more about the Chamber and how to get involved.\n\n \n\nCome and go as your schedule allows\, and food and drinks will be available for purchase at your convenience. New Member Mixers are hosted on the 3rd Tuesday of every month\, alternating between a 12pm start time and a 4:30pm start time. Questions? Email Bradley.
X-ALT-DESC;FMTTYPE=text/html:&nbsp\;<br />\n<strong>New Member Mixer</strong><br />\n&nbsp\;<br />\nWelcome to the Chamber! If you&#39\;ve joined in the past 12 months or are a new representative from a Chamber member business\, this event is for you. Stop by to meet fellow new members\, connect in a relaxed environment\, and start building valuable relationships. This is a great opportunity to learn more about the Chamber and how to get involved.<br />\n&nbsp\;<br />\nCome and go as your schedule allows\, and food and drinks will be available for purchase at your convenience. New Member Mixers are hosted on the 3<sup>rd</sup> Tuesday of every month\, alternating between a 12pm start time and a 4:30pm start time. Questions? Email Bradley.
LOCATION:HuHot Mongolian Grill 3701 W. Division St. #103 Saint Cloud\, MN 56301-4180
UID:e.2754.11438
SEQUENCE:3
DTSTAMP:20260422T191724Z
URL:https://chambermaster.businesscentralmagazine.com/events/details/new-member-mixer-11-18-25-11438
END:VEVENT

END:VCALENDAR
