BEGIN:VCALENDAR
VERSION:2.0
PRODID:-//ChamberMaster//Event Calendar 2.0//EN
METHOD:PUBLISH
X-PUBLISHED-TTL:P3D
REFRESH-INTERVAL:P3D
CALSCALE:GREGORIAN
BEGIN:VEVENT
DTSTART;VALUE=DATE:20250501
DTEND;VALUE=DATE:20250521
TRANSP:TRANSPARENT
X-MICROSOFT-CDO-ALLDAYEVENT:TRUE
SUMMARY:Mother's Day Relaxation Package
DESCRIPTION:Mother's Day Relaxation Package - $139.99 ??\n\nGive the gift of relaxation this Mother's Day! Our exclusive package includes:\n\n? One Hour Massage\n\n? Ionic Foot Bath\n\n? Salt Cave Session\n\nOnce you complete your purchase\, you'll receive a confirmation email with your ticket. To set up your appointments\, go to www.bellavitasaltcaves.com. Click "SERVICES"\, there you will find a link to schedule your massage and another link to schedule your salt session and ionic foot bath. If you have any questions\, please reach out 320-281-3121. Appointments are subject to availability\, so be sure to book early!\n\nGift the mom in your life the ultimate self-care experience she truly deserves. \n\nTHIS PACKAGE MUST BE USED BY MAY 20TH 2025
X-ALT-DESC;FMTTYPE=text/html:<p>Mother&rsquo\;s Day Relaxation Package - $139.99 ??</p>\n\n<p>Give the gift of relaxation this Mother&rsquo\;s Day! Our exclusive package includes:</p>\n\n<p>? One Hour Massage</p>\n\n<p>? Ionic Foot Bath</p>\n\n<p>? Salt Cave Session</p>\n\n<p>Once you complete your purchase\, you&rsquo\;ll receive a confirmation email with your ticket. To set up your appointments\, go to www.bellavitasaltcaves.com. Click &quot\;SERVICES&quot\;\, there you will find a link to schedule your massage and another link to schedule your salt session and ionic foot bath. If you have any questions\, please reach out 320-281-3121. Appointments are subject to availability\, so be sure to book early!</p>\n\n<p>Gift the mom in your life the ultimate self-care experience she truly deserves.&nbsp\;</p>\n\n<p>THIS PACKAGE MUST BE USED BY MAY 20TH 2025</p>\n
LOCATION:Bella Vita Salt Caves 707 West St. Germain St. St. Cloud\, MN 56301
UID:e.2754.11556
SEQUENCE:3
DTSTAMP:20260423T041042Z
URL:https://chambermaster.businesscentralmagazine.com/events/details/mother-s-day-relaxation-package-11556
END:VEVENT

END:VCALENDAR
