BEGIN:VCALENDAR
VERSION:2.0
PRODID:-//ChamberMaster//Event Calendar 2.0//EN
METHOD:PUBLISH
X-PUBLISHED-TTL:P3D
REFRESH-INTERVAL:P3D
CALSCALE:GREGORIAN
BEGIN:VEVENT
DTSTART;VALUE=DATE:20240815
DTEND;VALUE=DATE:20240819
TRANSP:TRANSPARENT
X-MICROSOFT-CDO-ALLDAYEVENT:TRUE
SUMMARY:MN Senior Games: Volunteers Needed!
DESCRIPTION:AmeriCorps Seniors RSVP is coordinating volunteer support for the Minnesota Senior Games\, which will be in greater St Cloud area August 15-18\, 2024. Volunteer roles include everything from checking in attendees to retrieving balls to ensuring runner safety (and more in between).  \n\n \n\nEvents include:\n\n	Basketball\n	Cycling Road Race (5K\, 20K & 40K)\n	Cycling Time Trial (10K)\n	Pickleball\n	Running (5K & 10K)\n	Swimming\n	Table Tennis\n	Tennis\n	Track & Field/Race Walk & Power Walk\n	Volleyball\n\n \n\nTo register as a volunteer\, go to https://signup.com/go/Xc33jh   \n\nBecause 2024 is a qualifying year for the 2025 National Competition in Iowa\, planners are expecting hundreds of athletes aged 50+ and spectators that accompany them.  We hope you will join us to make it a great experience for the athletes and support our community.  To learn more about the games go to www.mnseniorgames.com  \n\n*For every volunteer shift you sign up for and assist at\, you will be entered to win one of three $50 Visa Gift Cards.
X-ALT-DESC;FMTTYPE=text/html:AmeriCorps Seniors RSVP is coordinating volunteer support for the Minnesota Senior Games\, which will be in greater St Cloud area August 15-18\, 2024. Volunteer roles include everything from checking in attendees to retrieving balls to ensuring runner safety (and more in between). &nbsp\;<br />\n&nbsp\;<br />\nEvents include:\n<ul>\n	<li>Basketball</li>\n	<li>Cycling Road Race (5K\, 20K &amp\; 40K)</li>\n	<li>Cycling Time Trial (10K)</li>\n	<li>Pickleball</li>\n	<li>Running (5K &amp\; 10K)</li>\n	<li>Swimming</li>\n	<li>Table Tennis</li>\n	<li>Tennis</li>\n	<li>Track &amp\; Field/Race Walk &amp\; Power Walk</li>\n	<li>Volleyball</li>\n</ul>\n&nbsp\;<br />\n<strong><span style="color:black"><span style="font-family:arial\,sans-serif"><span style="font-size:10.5pt">To register as a volunteer\, go to <a href="https://signup.com/go/Xc33jh">https://signup.com/go/Xc33jh</a>&nbsp\; &nbsp\;</span></span></span></strong><br />\n<span style="color:black">Because 2024 is a qualifying year for the 2025 National Competition in Iowa\, planners are expecting hundreds of athletes aged 50+ and spectators that accompany them. &nbsp\;</span><span style="color:black"><span style="font-family:arial\,sans-serif"><span style="font-size:10.5pt">We hope you will join us to make it a great experience for the athletes and support our community.&nbsp\;&nbsp\;To learn more about the games go to <a href="http://www.mnseniorgames.com">www.mnseniorgames.com</a>&nbsp\; </span></span></span><br />\n<span style="color:black"><span style="font-family:arial\,sans-serif"><span style="font-size:10.5pt">*For every volunteer shift you sign up for and assist at\, you will be entered to win one of three $50 Visa Gift Cards.</span></span></span> &nbsp\;
LOCATION:Events are happening in Collegeville\, Sartell\, Sauk Rapids\, St Cloud\, St Stephen\, and Waite Park\, See the sign up website for details\, https://signup.com/go/Xc33jh.
UID:e.2754.11118
SEQUENCE:3
DTSTAMP:20260423T195917Z
URL:https://chambermaster.businesscentralmagazine.com/events/details/mn-senior-games-volunteers-needed-11118
END:VEVENT

END:VCALENDAR
