BEGIN:VCALENDAR
VERSION:2.0
PRODID:-//ChamberMaster//Event Calendar 2.0//EN
METHOD:PUBLISH
X-PUBLISHED-TTL:P3D
REFRESH-INTERVAL:P3D
CALSCALE:GREGORIAN
BEGIN:VEVENT
DTSTART:19960116T060000Z
DTEND:19960116T060000Z
X-MICROSOFT-CDO-ALLDAYEVENT:FALSE
SUMMARY:Minnesota Chamber Legislative Kickoff Jan. 16\, 1996
DESCRIPTION:Minnesota Chamber Legislative Kickoff Jan. 16\, 1996
X-ALT-DESC;FMTTYPE=text/html:Minnesota Chamber Legislative Kickoff Jan. 16\, 1996
LOCATION:Radisson South in Bloomington
UID:e.2754.2206
SEQUENCE:3
DTSTAMP:20260423T234335Z
URL:https://chambermaster.businesscentralmagazine.com/events/details/minnesota-chamber-legislative-kickoff-jan-16-1996-01-16-1996-2206
END:VEVENT

END:VCALENDAR
