BEGIN:VCALENDAR
VERSION:2.0
PRODID:-//ChamberMaster//Event Calendar 2.0//EN
METHOD:PUBLISH
X-PUBLISHED-TTL:P3D
REFRESH-INTERVAL:P3D
CALSCALE:GREGORIAN
BEGIN:VEVENT
DTSTART:20250905T050000Z
DTEND:20251009T100000Z
X-MICROSOFT-CDO-ALLDAYEVENT:FALSE
SUMMARY:Men's Shed Cereal Box Collection
DESCRIPTION:The Whitney Men's Shed is open to all men age 55+ who enjoy connecting for conversation\, fun\, and service projects. They meet the 2nd and 4th Thursdays from 4-5pm. \n\n\n\nThey're hosting a Cereal Box Collection for Catholic Charities Food Shelf from September 10-October 9\, 2025. Drop off donations at Whitney Senior Center. \n\n\n\nOn October 9 at 5pm they'll stack all the boxes and have a Domino Knock Down!\n\n\n\nYou can help topple hunger\, one box at a time!\n\n\n\n[Additional projects for the Whitney Men's Shed in September include building bird houses and bat houses for personal use. To learn more and get involved\, contact Whitney Senior Center. Men. A membership to Whitney or AmeriCorps Seniors RSVP is suggested.]
X-ALT-DESC;FMTTYPE=text/html:<em>The Whitney Men&#39\;s Shed is open to all men age 55+ who enjoy connecting for conversation\, fun\, and service projects. They meet the 2nd and 4th Thursdays from 4-5pm.&nbsp\;</em><br />\n<br />\nThey&#39\;re hosting a Cereal Box Collection for Catholic Charities Food Shelf from September 10-October 9\, 2025. Drop off donations at Whitney Senior Center.&nbsp\;<br />\n<br />\nOn October 9 at 5pm they&#39\;ll stack all the boxes and have a Domino Knock Down!<br />\n<br />\nYou can help topple hunger\, one box at a time!<br />\n<br />\n[Additional projects for the Whitney Men&#39\;s Shed in September include building bird houses and bat houses for personal use. To learn more and get involved\, contact Whitney Senior Center. Men. A membership to Whitney or AmeriCorps Seniors RSVP is suggested.]
LOCATION:Whitney Senior Center 1527 Northway Drive St Cloud\, MN
UID:e.2754.12358
SEQUENCE:3
DTSTAMP:20260422T204844Z
URL:https://chambermaster.businesscentralmagazine.com/events/details/men-s-shed-cereal-box-collection-12358
END:VEVENT

END:VCALENDAR
