BEGIN:VCALENDAR
VERSION:2.0
PRODID:-//ChamberMaster//Event Calendar 2.0//EN
METHOD:PUBLISH
X-PUBLISHED-TTL:P3D
REFRESH-INTERVAL:P3D
CALSCALE:GREGORIAN
BEGIN:VEVENT
DTSTART:20230629T223000Z
DTEND:20230630T020000Z
X-MICROSOFT-CDO-ALLDAYEVENT:FALSE
SUMMARY:Member Social - June 2023
DESCRIPTION:The Chamber has a ton of great events for you to engage and learn\, but here's a member-to-member opportunity for the whole family! Join us for a Member Social at Rock the Riverside in Sauk Rapids on June 29th. Meet other members and enjoy a night out.\n\n\n\nThis weekly music series is fun for the whole family. Plan to meet up with other Chamber members and their guests for a fun evening of music. The opening band\, Dave Lumley\, hits the stage at 5:30pm and the main act\, Stone Road\, takes the stage at 7pm. Keep an eye out for Chamber signage!\n\nFun fact: Chamber member Kris Crandall with Crandall Helpdesk is a band member in Stone Road!\n\n\n\nWhat is a Member Social?\n\nMember Socials are a way to get to know other Chamber members (and their families and friends!) in a relaxed setting. From meet-ups at local concerts to outings at area entertainment businesses\, Member Socials are meant to be a low-key way to socialize\, learn a little more about the Chamber\, and have some fun! There is no need to register in advance and any cost incurred is on your own.
X-ALT-DESC;FMTTYPE=text/html:The Chamber has a ton of great events for you to engage and learn\, but here&#39\;s a member-to-member opportunity for the whole family! Join us for a Member Social at Rock the Riverside in Sauk Rapids on June 29th. Meet other members and enjoy a night out.<br />\n<br />\nThis weekly music series is fun for the whole family. Plan to meet up with other Chamber members and their guests for a fun evening of music. The opening band\, Dave Lumley\, hits the stage at 5:30pm and the main act\, Stone Road\, takes the stage at 7pm. Keep an eye out for Chamber signage!<br />\nFun fact: Chamber member Kris Crandall with Crandall Helpdesk is a band member in Stone Road!<br />\n<br />\nWhat is a Member Social?<br />\nMember Socials are a way to get to know other Chamber members (and their families and friends!) in a relaxed setting. From meet-ups at local concerts to outings at area entertainment businesses\, Member Socials are meant to be a low-key way to socialize\, learn a little more about the Chamber\, and have some fun! There is no need to register in advance and any cost incurred is on your own.&nbsp\;
LOCATION:Rock the Riverside 195 River Ave S Sauk Rapids\, MN 56379
UID:e.2754.10454
SEQUENCE:3
DTSTAMP:20260424T161218Z
URL:https://chambermaster.businesscentralmagazine.com/events/details/member-social-june-2023-10454
END:VEVENT

END:VCALENDAR
