BEGIN:VCALENDAR
VERSION:2.0
PRODID:-//ChamberMaster//Event Calendar 2.0//EN
METHOD:PUBLISH
X-PUBLISHED-TTL:P3D
REFRESH-INTERVAL:P3D
CALSCALE:GREGORIAN
BEGIN:VEVENT
DTSTART:19970320T060000Z
DTEND:19970320T060000Z
X-MICROSOFT-CDO-ALLDAYEVENT:FALSE
SUMMARY:March 20\, 1997 Bes. Enhanc. Sem. (Sense of Humor)
DESCRIPTION:March 20\, 1997 Bes. Enhanc. Sem. (Sense of Humor)
X-ALT-DESC;FMTTYPE=text/html:March 20\, 1997 Bes. Enhanc. Sem. (Sense of Humor)
LOCATION:St. Cloud Technical College
UID:e.2754.2223
SEQUENCE:3
DTSTAMP:20260423T014602Z
URL:https://chambermaster.businesscentralmagazine.com/events/details/march-20-1997-bes-enhanc-sem-sense-of-humor-03-20-1997-2223
END:VEVENT

END:VCALENDAR
