BEGIN:VCALENDAR
VERSION:2.0
PRODID:-//ChamberMaster//Event Calendar 2.0//EN
METHOD:PUBLISH
X-PUBLISHED-TTL:P3D
REFRESH-INTERVAL:P3D
CALSCALE:GREGORIAN
BEGIN:VEVENT
DTSTART;VALUE=DATE:19970708
DTEND;VALUE=DATE:19970709
TRANSP:TRANSPARENT
X-MICROSOFT-CDO-ALLDAYEVENT:TRUE
SUMMARY:Making the most of your trade show
DESCRIPTION:
X-ALT-DESC;FMTTYPE=text/html:
LOCATION:
UID:e.2754.561
SEQUENCE:3
DTSTAMP:20260422T194921Z
URL:https://chambermaster.businesscentralmagazine.com/events/details/making-the-most-of-your-trade-show-07-08-1997-561
END:VEVENT

END:VCALENDAR
