BEGIN:VCALENDAR
VERSION:2.0
PRODID:-//ChamberMaster//Event Calendar 2.0//EN
METHOD:PUBLISH
X-PUBLISHED-TTL:P3D
REFRESH-INTERVAL:P3D
CALSCALE:GREGORIAN
BEGIN:VEVENT
DTSTART:20250205T180000Z
DTEND:20250205T190000Z
X-MICROSOFT-CDO-ALLDAYEVENT:FALSE
SUMMARY:Lunchtime Learning: The Blueprint for Great Teams 2/5/25
DESCRIPTION:Class Description:\n\nThe Blueprint for Great Teams: Learn How to Build Yours\n\nGreat teams don't just happen they're built with intention and strategy. In this lunchtime learning session\, hear from Jay and Tina Mrozek\, owners of Blacklight Adventures\, as they share how they've cultivated successful teams\, overcome challenges\, and fostered collaboration. Gain actionable tips on recruiting\, retaining\, and creating a positive team culture to help your business thrive.\n\nThis session is ideal for business owners and managers looking to strengthen their teams and drive success. Lunch is included\, so join us for valuable insights and practical takeaways!\n\n\n\nYour Speakers:  Tina & Jay Mrozek\, Blacklight Adventures\n\nTina and Jay Mrozek are the owners of Blacklight Adventures\, a one-of-a-kind entertainment venue that brings people together for family friendly fun. Their success is powered by an incredible team of employees who go above and beyond to make every visit an unforgettable experience.\n\nFrom creating a welcoming atmosphere to delivering top-notch service\, the Blacklight Adventures team is at the heart of the business\, ensuring guests enjoy every moment of their adventure. Tina and Jay are passionate about fostering a positive\, collaborative environment where their employees thrive\, making Blacklight Adventures a truly exceptional place to work and play.\n\n\n\nRegister by Monday\, February 3\, 2025 to be included in the lunch count.\n\n\n\n \n\nThank you to our sponsor!
X-ALT-DESC;FMTTYPE=text/html:<br />\n<br />\n<strong><span style="font-family:cambria\,serif\;"><span style="font-size:14.0pt\;">Class Description:</span></span></strong><br />\n<font color="#000000"><b>The Blueprint for Great Teams: Learn How to Build Yours</b></font><br />\nGreat teams don&rsquo\;t just happen&mdash\;they&rsquo\;re built with intention and strategy. In this lunchtime learning session\, hear from Jay and Tina Mrozek\, owners of Blacklight Adventures\, as they share how they&rsquo\;ve cultivated successful teams\, overcome challenges\, and fostered collaboration. Gain actionable tips on recruiting\, retaining\, and creating a positive team culture to help your business thrive.<br />\nThis session is ideal for business owners and managers looking to strengthen their teams and drive success. Lunch is included\, so join us for valuable insights and practical takeaways!<br />\n<br />\n<strong><span style="font-family:cambria\,serif\;"><span style="font-size:14.0pt\;">Your Speakers:&nbsp\; Tina &amp\; Jay Mrozek\, Blacklight Adventures</span></span></strong><br />\nTina and Jay Mrozek are the owners of <strong>Blacklight Adventures</strong>\, a one-of-a-kind entertainment venue that brings people together for family friendly fun. Their success is powered by an incredible team of employees who go above and beyond to make every visit an unforgettable experience.<br />\nFrom creating a welcoming atmosphere to delivering top-notch service\, the Blacklight Adventures team is at the heart of the business\, ensuring guests enjoy every moment of their adventure. Tina and Jay are passionate about fostering a positive\, collaborative environment where their employees thrive\, making Blacklight Adventures a truly exceptional place to work and play.<br />\n<br />\n<strong style="color: rgb(0\, 112\, 192)\; font-family: cambria\, serif\; font-size: 14px\;">Register by Monday\, February 3\, 2025 to be included in the lunch count.</strong><br />\n<br />\n<span style="font-family:arial\;">&nbsp\;</span><br />\n<span style="font-size:22px\;"><span style="color:#000099\;"><span style="font-family:verdana\;"><strong><em>Thank you to our sponsor!</em></strong></span></span></span>
LOCATION:Chamber Office 1411 West St. Germain Street\, Suite 101 St. Cloud\, MN\, 56301
UID:e.2754.11350
SEQUENCE:3
DTSTAMP:20260423T103625Z
URL:https://chambermaster.businesscentralmagazine.com/events/details/lunchtime-learning-the-blueprint-for-great-teams-2-5-25-11350
END:VEVENT

END:VCALENDAR
