BEGIN:VCALENDAR
VERSION:2.0
PRODID:-//ChamberMaster//Event Calendar 2.0//EN
METHOD:PUBLISH
X-PUBLISHED-TTL:P3D
REFRESH-INTERVAL:P3D
CALSCALE:GREGORIAN
BEGIN:VEVENT
DTSTART:20250910T170000Z
DTEND:20250910T180000Z
X-MICROSOFT-CDO-ALLDAYEVENT:FALSE
SUMMARY:Lunchtime Learning: Power In The Numbers - 9/10/25
DESCRIPTION:Class Description:\n\nPower in the Numbers: Using Financial Statements to Drive Smart Business Decisions\n\nJoin us for a practical Lunchtime Learning session focused on financial literacy for small business owners\, finance managers\, and other professionals interested in improving their financial positions. Learn how to read and understand your business's financial statements and\, more importantly\, how to use them to make informed decisions. From tax planning and investments to employee benefits\, this session will help you turn your numbers into actionable insights. Walk away with tools to strengthen your financial strategy and grow your business with confidence.\n\n\n\n\n\nYour Speaker: Paul Radeke\, Creative Planning\n\n\n\n\n\nRegister by Monday\, September 8\, 2025 to be included in the lunch count.\n\n\n\n \n\nThank you to our sponsor!
X-ALT-DESC;FMTTYPE=text/html:<br />\n<br />\n<strong><span style="font-family:cambria\,serif\;"><span style="font-size:14.0pt\;">Class Description:</span></span></strong><br />\n<strong>Power in the Numbers: Using Financial Statements to Drive Smart Business Decisions</strong><br />\nJoin us for a practical Lunchtime Learning session focused on financial literacy for small business owners\, finance managers\, and other professionals interested in improving their financial positions. Learn how to read and understand your business&rsquo\;s financial statements and\, more importantly\, how to use them to make informed decisions. From tax planning and investments to employee benefits\, this session will help you turn your numbers into actionable insights. Walk away with tools to strengthen your financial strategy and grow your business with confidence.<br />\n<br />\n<br />\n<strong><span style="font-family: cambria\, serif\;"><span style="font-size: 14pt\;">Your Speaker: Paul Radeke\, Creative Planning</span></span></strong><br />\n<br />\n<br />\n<span style="font-size:16px\;"><span style="font-family:verdana\;"><strong style="color: rgb(0\, 112\, 192)\; font-family: cambria\, serif\; font-size: 14px\;">Register by Monday\, September 8\, 2025 to be included in the lunch count.</strong></span></span><br />\n<br />\n<span style="font-family:arial\;">&nbsp\;</span><br />\n<span style="font-size:22px\;"><span style="color:#000099\;"><span style="font-family:verdana\;"><strong><em>Thank you to our sponsor!</em></strong></span></span></span>
LOCATION:Chamber Office 1411 West St. Germain Street\, Suite 101 St. Cloud\, MN\, 56301
UID:e.2754.12308
SEQUENCE:3
DTSTAMP:20260422T222239Z
URL:https://chambermaster.businesscentralmagazine.com/events/details/lunchtime-learning-power-in-the-numbers-9-10-25-12308
END:VEVENT

END:VCALENDAR
