BEGIN:VCALENDAR
VERSION:2.0
PRODID:-//ChamberMaster//Event Calendar 2.0//EN
METHOD:PUBLISH
X-PUBLISHED-TTL:P3D
REFRESH-INTERVAL:P3D
CALSCALE:GREGORIAN
BEGIN:VEVENT
DTSTART:20250514T170000Z
DTEND:20250514T180000Z
X-MICROSOFT-CDO-ALLDAYEVENT:FALSE
SUMMARY:Lunchtime Learning: Partners in Purpose - 5/14/25
DESCRIPTION:Class Description:\n\nPartners in Purpose: Building Strong Business-Nonprofit Relationships\n\nLooking to strengthen your community impact? Join us for an engaging 45-minute session on building partnerships between business and nonprofits.  Learn practical strategies to form meaningful collaborations\, amplify your brand's values\, and create lasting change in your community while supporting the vital work of nonprofits.\n\nPerfect for business leaders and managers\, this session will provide insights into building impactful partnerships that support your mission while giving back. Lunch is included join us to learn how to create win-win relationships that drive positive change!\n\n\n\nYour Speaker: Nicole Clements\, Initiative Foundation\n\nNicole Clements is a key team member at the Initiative Foundation in Minnesota\, where she works to support community development and local nonprofits. With a passion for fostering growth and creating positive change\, Nicole is dedicated to helping organizations thrive through strategic partnerships and resources that drive lasting impact across the region.\n\n\n\nRegister by Monday\, May 12\, 2025 to be included in the lunch count.\n\n\n\n \n\nThank you to our sponsor!
X-ALT-DESC;FMTTYPE=text/html:<br />\n<br />\n<strong><span style="font-family:cambria\,serif\;"><span style="font-size:14.0pt\;">Class Description:</span></span></strong><br />\n<strong><span style="color:black\;">Partners in Purpose: Building Strong Business-Nonprofit Relationships</span></strong><br />\nLooking to strengthen your community impact? Join us for an engaging 45-minute session on building partnerships between business and nonprofits.&nbsp\; Learn practical strategies to form meaningful collaborations\, amplify your brand&rsquo\;s values\, and create lasting change in your community while supporting the vital work of nonprofits.<br />\nPerfect for business leaders and managers\, this session will provide insights into building impactful partnerships that support your mission while giving back. Lunch is included&mdash\;join us to learn how to create win-win relationships that drive positive change!<br />\n<br />\n<strong><span style="font-family: cambria\, serif\;"><span style="font-size: 14pt\;">Your Speaker: Nicole Clements\, Initiative Foundation</span></span></strong><br />\n<strong>Nicole Clements </strong>is a key team member at the <strong>Initiative Foundation</strong> in Minnesota\, where she works to support community development and local nonprofits. With a passion for fostering growth and creating positive change\, Nicole is dedicated to helping organizations thrive through strategic partnerships and resources that drive lasting impact across the region.<br />\n<br />\n<span style="font-size:16px\;"><span style="font-family:verdana\;"><strong style="color: rgb(0\, 112\, 192)\; font-family: cambria\, serif\; font-size: 14px\;">Register by Monday\, May 12\, 2025 to be included in the lunch count.</strong></span></span><br />\n<br />\n<span style="font-family:arial\;">&nbsp\;</span><br />\n<span style="font-size:22px\;"><span style="color:#000099\;"><span style="font-family:verdana\;"><strong><em>Thank you to our sponsor!</em></strong></span></span></span>
LOCATION:Chamber Office 1411 West St. Germain Street\, Suite 101 St. Cloud\, MN\, 56301
UID:e.2754.11353
SEQUENCE:3
DTSTAMP:20260423T041032Z
URL:https://chambermaster.businesscentralmagazine.com/events/details/lunchtime-learning-partners-in-purpose-5-14-25-11353
END:VEVENT

END:VCALENDAR
