BEGIN:VCALENDAR
VERSION:2.0
PRODID:-//ChamberMaster//Event Calendar 2.0//EN
METHOD:PUBLISH
X-PUBLISHED-TTL:P3D
REFRESH-INTERVAL:P3D
CALSCALE:GREGORIAN
BEGIN:VEVENT
DTSTART:20250305T180000Z
DTEND:20250305T190000Z
X-MICROSOFT-CDO-ALLDAYEVENT:FALSE
SUMMARY:Lunchtime Learning: Keep Them Coming Back: Customer Retention 3/5/25
DESCRIPTION:Class Description:\n\nKeep Them Coming Back: Customer Retention Strategies\n\nDiscover what it takes to turn one-time buyers into lifelong customers. In this engaging lunchtime panel\, experts from diverse industries ranging from retail to professional services will share their tried-and-true strategies for building loyalty and keeping customers coming back.\n\nLearn how to foster trust\, provide exceptional service\, and create experiences that resonate with your customers. Whether you're a business owner or manager\, you'll walk away with actionable ideas to strengthen relationships and boost retention.\n\nLunch is included join us for an inspiring discussion and practical takeaways!\n\n\n\nYour Panel of Speakers:  Jessie Sandoval is the owner of Shanti Yoga Center\, where she fosters a welcoming space for yoga and mindfulness. With a passion for holistic wellness\, Jessie creates an inclusive environment for individuals to grow\, find balance\, and connect through yoga and meditation.\n\nBen Sanders is the owner of Dream Home Furniture in St. Cloud\, MN. With a focus on quality and personalized service\, Ben helps customers find stylish furniture that suits their needs and enhances their homes\, making Dream Home Furniture a trusted local business in the community. \n\nMike Lardy is the owner of Bravo Burritos\, a popular burrito restaurant known for its flavorful and fresh offerings. With a passion for creating delicious\, high-quality meals\, Mike has built a strong reputation for delivering a memorable dining experience. His dedication to customer satisfaction and commitment to using top-notch ingredients has made Bravo Burritos a favorite among locals and visitors alike. \n\nTroy Lenarz is the Director of Business Development & Community Engagement at Alliance Imaging\, a company specializing in diagnostic imaging solutions for the healthcare industry. In this role\, he fosters partnerships and community connections while driving business growth. Hi expertise and leadership support the advancement of high-quality imaging services\, helping medical facilities enhance patient care through innovative technology and efficient processes.\n\n\n\n\n\nRegister by Monday\, March 3\, 2025 to be included in the lunch count.\n\n \n\nThank you to our sponsor!
X-ALT-DESC;FMTTYPE=text/html:<br />\n<br />\n<strong><span style="font-family:cambria\,serif\;"><span style="font-size:14.0pt\;">Class Description:</span></span></strong><br />\n<font color="#000000"><b>Keep Them Coming Back: Customer Retention Strategies</b></font><br />\nDiscover what it takes to turn one-time buyers into lifelong customers. In this engaging lunchtime panel\, experts from diverse industries ranging from retail to professional services will share their tried-and-true strategies for building loyalty and keeping customers coming back.<br />\nLearn how to foster trust\, provide exceptional service\, and create experiences that resonate with your customers. Whether you&#39\;re a business owner or manager\, you&#39\;ll walk away with actionable ideas to strengthen relationships and boost retention.<br />\nLunch is included&mdash\;join us for an inspiring discussion and practical takeaways!<br />\n<br />\n<strong><span style="font-family:cambria\,serif\;"><span style="font-size:14.0pt\;">Your Panel of Speakers:&nbsp\; </span></span><span style="font-size:12px\;">Jessie Sandoval</span></strong><span style="font-size:12px\;"> is the owner of <strong>Shanti Yoga Center</strong>\, where she fosters a welcoming space for yoga and mindfulness. With a passion for holistic wellness\, Jessie creates an inclusive environment for individuals to grow\, find balance\, and connect through yoga and meditation.<br />\n<strong>Ben Sanders </strong>is the owner of <strong>Dream Home Furniture</strong> in St. Cloud\, MN. With a focus on quality and personalized service\, Ben helps customers find stylish furniture that suits their needs and enhances their homes\, making Dream Home Furniture a trusted local business in the community.&nbsp\;<br />\n<span style="font-family:aptos\,sans-serif\;"><strong>Mike Lardy</strong> is the owner of <strong>Bravo Burritos</strong>\, a popular burrito restaurant known for its flavorful and fresh offerings. With a passion for creating delicious\, high-quality meals\, Mike has built a strong reputation for delivering a memorable dining experience. His dedication to customer satisfaction and commitment to using top-notch ingredients has made Bravo Burritos a favorite among locals and visitors alike.&nbsp\;<br />\n<strong>Troy Lenarz</strong> is the Director of Business Development &amp\; Community Engagement at <strong>Alliance Imaging</strong>\, a company specializing in diagnostic imaging solutions for the healthcare industry. In this role\, he fosters partnerships and community connections while driving business growth. Hi expertise and leadership support the advancement of high-quality imaging services\, helping medical facilities enhance patient care through innovative technology and efficient processes.</span></span><br />\n<br />\n<br />\n<strong style="color: rgb(0\, 112\, 192)\; font-family: cambria\, serif\; font-size: 14px\;">Register by Monday\, March 3\, 2025 to be included in the lunch count.</strong><br />\n<span style="font-family:arial\;">&nbsp\;</span><br />\n<span style="font-size:22px\;"><span style="color:#000099\;"><span style="font-family:verdana\;"><strong><em>Thank you to our sponsor!</em></strong></span></span></span>
LOCATION:Chamber Office 1411 West St. Germain Street\, Suite 101 St. Cloud\, MN\, 56301
UID:e.2754.11351
SEQUENCE:3
DTSTAMP:20260423T071057Z
URL:https://chambermaster.businesscentralmagazine.com/events/details/lunchtime-learning-keep-them-coming-back-customer-retention-3-5-25-11351
END:VEVENT

END:VCALENDAR
