BEGIN:VCALENDAR
VERSION:2.0
PRODID:-//ChamberMaster//Event Calendar 2.0//EN
METHOD:PUBLISH
X-PUBLISHED-TTL:P3D
REFRESH-INTERVAL:P3D
CALSCALE:GREGORIAN
BEGIN:VEVENT
DTSTART:20251105T180000Z
DTEND:20251105T190000Z
X-MICROSOFT-CDO-ALLDAYEVENT:FALSE
SUMMARY:Lunchtime Learning: In Case of Emergency - 11/5/25
DESCRIPTION:Class Description:\n\nIn Case of Emergency: Building a Business Crisis Plan That Works\n\nIs your business prepared for the unexpected? In this essential Lunchtime Learning session\, representatives from local police will share expert guidance on how to prepare for a wide range of crisis situations from active shooters to severe weather. You'll learn how to develop a practical crisis management plan tailored to your workplace\, and what key factors business owners\, managers\, and HR professionals need to consider. Attendees will leave with a helpful checklist and action items to start important safety conversations\, including whether it's time to form a safety committee.\n\n\n\n\n\n\n\n\n\nYour Speaker: Daniel Nelson\, St. Cloud Police Department and Troy Lenarz\, Regional Diagnostic Radiology\n\n\n\n\n\nRegister by Monday\, November 3\, 2025 to be included in the lunch count.\n\n\n\n \n\nThank you to our sponsor!
X-ALT-DESC;FMTTYPE=text/html:<br />\n<br />\n<strong><span style="font-family:cambria\,serif\;"><span style="font-size:14.0pt\;">Class Description:</span></span></strong><br />\n<strong>In Case of Emergency: Building a Business Crisis Plan That Works</strong><br />\n<span style="font-size:14px\;"><span style="font-family:aptos\,sans-serif\;">Is your business prepared for the unexpected? In this essential Lunchtime Learning session\, representatives from local police will share expert guidance on how to prepare for a wide range of crisis situations&mdash\;from active shooters to severe weather. You&#39\;ll learn how to develop a practical crisis management plan tailored to your workplace\, and what key factors business owners\, managers\, and HR professionals need to consider. Attendees will leave with a helpful checklist and action items to start important safety conversations\, including whether it&#39\;s time to form a safety committee.</span></span><br />\n<br />\n<br />\n<br />\n<br />\n<strong><span style="font-family: cambria\, serif\;"><span style="font-size: 14pt\;">Your Speaker: </span></span></strong><span style="font-size:16px\;"><span style="font-family: cambria\, serif\;">Daniel Nelson\, St. Cloud Police Department and Troy Lenarz\, Regional Diagnostic Radiology</span></span><br />\n<br />\n<br />\n<span style="font-size:16px\;"><span style="font-family:verdana\;"><strong style="color: rgb(0\, 112\, 192)\; font-family: cambria\, serif\; font-size: 14px\;">Register by Monday\, November 3\, 2025 to be included in the lunch count.</strong></span></span><br />\n<br />\n<span style="font-family:arial\;">&nbsp\;</span><br />\n<span style="font-size:22px\;"><span style="color:#000099\;"><span style="font-family:verdana\;"><strong><em>Thank you to our sponsor!</em></strong></span></span></span>
LOCATION:Chamber Office 1411 West St. Germain Street\, Suite 101 St. Cloud\, MN\, 56301
UID:e.2754.12312
SEQUENCE:3
DTSTAMP:20260422T205120Z
URL:https://chambermaster.businesscentralmagazine.com/events/details/lunchtime-learning-in-case-of-emergency-11-5-25-12312
END:VEVENT

END:VCALENDAR
