BEGIN:VCALENDAR
VERSION:2.0
PRODID:-//ChamberMaster//Event Calendar 2.0//EN
METHOD:PUBLISH
X-PUBLISHED-TTL:P3D
REFRESH-INTERVAL:P3D
CALSCALE:GREGORIAN
BEGIN:VEVENT
DTSTART:20251203T180000Z
DTEND:20251203T190000Z
X-MICROSOFT-CDO-ALLDAYEVENT:FALSE
SUMMARY:Lunchtime Learning: Click Refresh: Tips for Bringing Your Website Up to Speed - 12/3/25
DESCRIPTION:Class Description:\n\nIs your website a couch potato\, or is it actually working for you? \n\n\n\nJoin us for a lively\, interactive Lunchtime Learning session. We'll dive into what's really happening behind the scenes\, sharing tips and tricks to give your site a boost. Bring your questions - our team will give you personalized insights\, highlighting what's super effective and where YOUR specific site can be improved. These will be provided to each attendee as a handout. \n\n\n\nWalk away with a useful checklist and fresh ideas tailored just for your site - so it can shine as your 24/7 online salesperson!\n\n\n\n\n\n\n\n\n\nYour Speaker: Jessica Johnson\, Evermore Co.\n\n\n\n\n\nRegister by Monday\, December 1\, 2025 to be included in the lunch count.\n\n\n\n \n\nThank you to our sponsor!
X-ALT-DESC;FMTTYPE=text/html:<br />\n<br />\n<strong><span style="font-family:cambria\,serif\;"><span style="font-size:14.0pt\;">Class Description:</span></span></strong><br />\nIs your website a couch potato\, or is it actually working for you?&nbsp\;<br />\n<br />\nJoin us for a lively\, interactive Lunchtime Learning session. We&#39\;ll dive into what&#39\;s really happening behind the scenes\, sharing tips and tricks to give your site a boost. Bring your questions - our team will give you personalized insights\, highlighting what&rsquo\;s super effective and where YOUR specific site can be improved. These will be provided to each attendee as a handout.&nbsp\;<br />\n<br />\nWalk away with a useful checklist and fresh ideas tailored just for your site - so it can shine as your 24/7 online salesperson!<br />\n<br />\n<br />\n<br />\n<br />\n<strong><span style="font-family: cambria\, serif\;"><span style="font-size: 14pt\;">Your Speaker: </span></span></strong><span style="font-family: cambria\, serif\;"><span style="font-size: 16px\;">Jessica Johnson\, Evermore Co.</span></span><br />\n<br />\n<br />\n<span style="font-size:16px\;"><span style="font-family:verdana\;"><strong style="color: rgb(0\, 112\, 192)\; font-family: cambria\, serif\; font-size: 14px\;">Register by Monday\, December 1\, 2025 to be included in the lunch count.</strong></span></span><br />\n<br />\n<span style="font-family:arial\;">&nbsp\;</span><br />\n<span style="font-size:22px\;"><span style="color:#000099\;"><span style="font-family:verdana\;"><strong><em>Thank you to our sponsor!</em></strong></span></span></span>
LOCATION:Chamber Office 1411 West St. Germain Street\, Suite 101 St. Cloud\, MN\, 56301
UID:e.2754.12313
SEQUENCE:3
DTSTAMP:20260422T135637Z
URL:https://chambermaster.businesscentralmagazine.com/events/details/lunchtime-learning-click-refresh-tips-for-bringing-your-website-up-to-speed-12-3-25-12313
END:VEVENT

END:VCALENDAR
