BEGIN:VCALENDAR
VERSION:2.0
PRODID:-//ChamberMaster//Event Calendar 2.0//EN
METHOD:PUBLISH
X-PUBLISHED-TTL:P3D
REFRESH-INTERVAL:P3D
CALSCALE:GREGORIAN
BEGIN:VEVENT
DTSTART:20251001T170000Z
DTEND:20251001T180000Z
X-MICROSOFT-CDO-ALLDAYEVENT:FALSE
SUMMARY:Lunchtime Learning: Building Better Business Through Belonging - 10/1/25
DESCRIPTION:Class Description:\n\nWhy has energy around DEI waned and what can we learn?\n\nThis interactive workshop invites local business leaders to explore the deeper values underlying diversity\, equity\, and inclusion values such as fairness\, opportunity\, and community well-being. Rather than focusing on jargon or checklists\, we'll look at how exclusion (intentional or not) affects growth\, innovation\, and trust in our workplaces and communities.\n\n\n\n\n\n\n\nYour Speaker: Led by Professor Ruthanne Kim\, Ph.D.\, faculty lead for Community-Anti-Racism Education (CARE) at St. Cloud State University\, this session draws on research and real-world examples to help participants reconnect with the purpose behind DEI. You'll leave with fresh perspectives and practical ideas for fostering environments where everyone can thrive while advancing your business goals.\n\n\n\n\n\nRegister by Monday\, September 28\, 2025 to be included in the lunch count.\n\n\n\n \n\nThank you to our sponsor!
X-ALT-DESC;FMTTYPE=text/html:<br />\n<br />\n<strong><span style="font-family:cambria\,serif\;"><span style="font-size:14.0pt\;">Class Description:</span></span></strong><br />\n<strong>Why has energy around DEI waned&mdash\;and what can we learn?</strong><br />\nThis interactive workshop invites local business leaders to explore the deeper values underlying diversity\, equity\, and inclusion&mdash\;values such as fairness\, opportunity\, and community well-being. Rather than focusing on jargon or checklists\, we&rsquo\;ll look at how exclusion (intentional or not) affects growth\, innovation\, and trust in our workplaces and communities.<br />\n<br />\n<br />\n<br />\n<strong><span style="font-family: cambria\, serif\;"><span style="font-size: 14pt\;">Your Speaker: </span></span></strong>Led by Professor Ruthanne Kim\, Ph.D.\, faculty lead for Community-Anti-Racism Education (CARE) at St. Cloud State University\, this session draws on research and real-world examples to help participants reconnect with the purpose behind DEI. You&rsquo\;ll leave with fresh perspectives and practical ideas for fostering environments where everyone can thrive&mdash\;while advancing your business goals.<br />\n<br />\n<br />\n<span style="font-size:16px\;"><span style="font-family:verdana\;"><strong style="color: rgb(0\, 112\, 192)\; font-family: cambria\, serif\; font-size: 14px\;">Register by Monday\, September 28\, 2025 to be included in the lunch count.</strong></span></span><br />\n<br />\n<span style="font-family:arial\;">&nbsp\;</span><br />\n<span style="font-size:22px\;"><span style="color:#000099\;"><span style="font-family:verdana\;"><strong><em>Thank you to our sponsor!</em></strong></span></span></span>
LOCATION:Chamber Office 1411 West St. Germain Street\, Suite 101 St. Cloud\, MN\, 56301
UID:e.2754.12310
SEQUENCE:3
DTSTAMP:20260422T205035Z
URL:https://chambermaster.businesscentralmagazine.com/events/details/lunchtime-learning-building-better-business-through-belonging-10-1-25-12310
END:VEVENT

END:VCALENDAR
