BEGIN:VCALENDAR
VERSION:2.0
PRODID:-//ChamberMaster//Event Calendar 2.0//EN
METHOD:PUBLISH
X-PUBLISHED-TTL:P3D
REFRESH-INTERVAL:P3D
CALSCALE:GREGORIAN
BEGIN:VEVENT
DTSTART:19970505T050000Z
DTEND:19970505T050000Z
X-MICROSOFT-CDO-ALLDAYEVENT:FALSE
SUMMARY:Lunch with Governor A. Carlson on Mon. May 5 @ Radisson
DESCRIPTION:Lunch with Governor A. Carlson on Mon. May 5 @ Radisson
X-ALT-DESC;FMTTYPE=text/html:Lunch with Governor A. Carlson on Mon. May 5 @ Radisson
LOCATION:Radisson Suites Hotel Ballroom
UID:e.2754.2249
SEQUENCE:3
DTSTAMP:20260422T224411Z
URL:https://chambermaster.businesscentralmagazine.com/events/details/lunch-with-governor-a-carlson-on-mon-may-5-radisson-05-05-1997-2249
END:VEVENT

END:VCALENDAR
