BEGIN:VCALENDAR
VERSION:2.0
PRODID:-//ChamberMaster//Event Calendar 2.0//EN
METHOD:PUBLISH
X-PUBLISHED-TTL:P3D
REFRESH-INTERVAL:P3D
CALSCALE:GREGORIAN
BEGIN:VEVENT
DTSTART;VALUE=DATE:19970603
DTEND;VALUE=DATE:19970604
TRANSP:TRANSPARENT
X-MICROSOFT-CDO-ALLDAYEVENT:TRUE
SUMMARY:Legislative Wrap-up June 3 @ Kelly Inn
DESCRIPTION:
X-ALT-DESC;FMTTYPE=text/html:
LOCATION:Best Western Kelly Inn
UID:e.2754.558
SEQUENCE:3
DTSTAMP:20260422T211424Z
URL:https://chambermaster.businesscentralmagazine.com/events/details/legislative-wrap-up-june-3-kelly-inn-06-03-1997-558
END:VEVENT

END:VCALENDAR
