BEGIN:VCALENDAR
VERSION:2.0
PRODID:-//ChamberMaster//Event Calendar 2.0//EN
METHOD:PUBLISH
X-PUBLISHED-TTL:P3D
REFRESH-INTERVAL:P3D
CALSCALE:GREGORIAN
BEGIN:VEVENT
DTSTART:19970603T050000Z
DTEND:19970603T050000Z
X-MICROSOFT-CDO-ALLDAYEVENT:FALSE
SUMMARY:Legislative Wrap-up June 3 @ Kelly Inn
DESCRIPTION:Legislative Wrap-up June 3 @ Kelly Inn
X-ALT-DESC;FMTTYPE=text/html:Legislative Wrap-up June 3 @ Kelly Inn
LOCATION:Best Western Kelly Inn
UID:e.2754.2252
SEQUENCE:3
DTSTAMP:20260422T211451Z
URL:https://chambermaster.businesscentralmagazine.com/events/details/legislative-wrap-up-june-3-kelly-inn-06-03-1997-2252
END:VEVENT

END:VCALENDAR
