BEGIN:VCALENDAR
VERSION:2.0
PRODID:-//ChamberMaster//Event Calendar 2.0//EN
METHOD:PUBLISH
X-PUBLISHED-TTL:P3D
REFRESH-INTERVAL:P3D
CALSCALE:GREGORIAN
BEGIN:VEVENT
DTSTART:19960416T050000Z
DTEND:19960416T050000Z
X-MICROSOFT-CDO-ALLDAYEVENT:FALSE
SUMMARY:Legislative Wrap - Up Breakfast April 16th\, 1996
DESCRIPTION:Legislative Wrap - Up Breakfast April 16th\, 1996
X-ALT-DESC;FMTTYPE=text/html:Legislative Wrap - Up Breakfast April 16th\, 1996
LOCATION:Holiday Inn
UID:e.2754.2211
SEQUENCE:3
DTSTAMP:20260423T185332Z
URL:https://chambermaster.businesscentralmagazine.com/events/details/legislative-wrap-up-breakfast-april-16th-1996-04-16-1996-2211
END:VEVENT

END:VCALENDAR
