BEGIN:VCALENDAR
VERSION:2.0
PRODID:-//ChamberMaster//Event Calendar 2.0//EN
METHOD:PUBLISH
X-PUBLISHED-TTL:P3D
REFRESH-INTERVAL:P3D
CALSCALE:GREGORIAN
BEGIN:VEVENT
DTSTART:20260121T133000Z
DTEND:20260121T153000Z
X-MICROSOFT-CDO-ALLDAYEVENT:FALSE
SUMMARY:Legislative Session Review & Preview Breakfast - 1/21/26
DESCRIPTION:Join the St. Cloud Area Chamber of Commerce for a Legislative Session Review & Preview Breakfast featuring a panel discussion with area legislators from the Minnesota House and Senate. As we did not hold a formal session wrap-up in 2025\, the program will include a brief review of the most recent legislative session\, followed by a conversation with legislators about their expectations and priorities for the 2026 session. Attendees will also have the opportunity to ask questions\, and engage directly with our elected officials.\n\n\n\nEnjoy a light breakfast as you connect with fellow business and community leaders.\n\n\n\nRegistration is required.\n\n	$25 for Chamber members\n	$35 for non-members\n\nSpace is limited\, so reserve your spot today and be part of the discussion shaping our region's future.\n\n\n\nRegister online by clicking on the blue "Register" button on the right\, by emailing registrations@StCloudAreaChamber.com or by calling (320) 656-3826.
X-ALT-DESC;FMTTYPE=text/html:<br />\nJoin the St. Cloud Area Chamber of Commerce for a Legislative Session Review &amp\; Preview Breakfast featuring a panel discussion with area legislators from the Minnesota House and Senate. As we did not hold a formal session wrap-up in 2025\, the program will include a brief review of the most recent legislative session\, followed by a conversation with legislators about their expectations and priorities for the 2026 session. Attendees will also have the opportunity to ask questions\, and engage directly with our elected officials.<br />\n<br />\nEnjoy a <strong><span style="font-family:aptos\,sans-serif\;">light breakfast</span></strong>&nbsp\;as you connect with fellow business and community leaders.<br />\n<br />\n<strong><span style="font-family:aptos\,sans-serif\;">Registration is required.</span></strong>\n<ul>\n	<li>$25 for Chamber members</li>\n	<li>$35 for non-members</li>\n</ul>\nSpace is limited\, so reserve your spot today and be part of the discussion shaping our region&rsquo\;s future.<br />\n<br />\nRegister online by clicking on the blue &quot\;Register&quot\; button on the right\, by emailing&nbsp\;<strong><a href="mailto:registrations@StCloudAreaChamber.com?subject=Legislative%20Connection%3A%20Session%20Preview" target="_blank"><span style="color: rgb(0\, 0\, 205)\;">registrations@StCloudAreaChamber.com</span></a></strong>&nbsp\;or by calling (320) 656-3826.
LOCATION:Best Western Kelly Inn 100 4th Avenue S.\, Saint Cloud\, MN 56301
UID:e.2754.12415
SEQUENCE:3
DTSTAMP:20260422T135536Z
URL:https://chambermaster.businesscentralmagazine.com/events/details/legislative-session-review-preview-breakfast-1-21-26-12415
END:VEVENT

END:VCALENDAR
