BEGIN:VCALENDAR
VERSION:2.0
PRODID:-//ChamberMaster//Event Calendar 2.0//EN
METHOD:PUBLISH
X-PUBLISHED-TTL:P3D
REFRESH-INTERVAL:P3D
CALSCALE:GREGORIAN
BEGIN:VEVENT
DTSTART;VALUE=DATE:19961223
DTEND;VALUE=DATE:19961224
TRANSP:TRANSPARENT
X-MICROSOFT-CDO-ALLDAYEVENT:TRUE
SUMMARY:Legislative Session Preview
DESCRIPTION:
X-ALT-DESC;FMTTYPE=text/html:
LOCATION:American Heritage Bank
UID:e.2754.537
SEQUENCE:3
DTSTAMP:20260423T060346Z
URL:https://chambermaster.businesscentralmagazine.com/events/details/legislative-session-preview-12-23-1996-537
END:VEVENT

END:VCALENDAR
