BEGIN:VCALENDAR
VERSION:2.0
PRODID:-//ChamberMaster//Event Calendar 2.0//EN
METHOD:PUBLISH
X-PUBLISHED-TTL:P3D
REFRESH-INTERVAL:P3D
CALSCALE:GREGORIAN
BEGIN:VEVENT
DTSTART:19970115T060000Z
DTEND:19970201T060000Z
X-MICROSOFT-CDO-ALLDAYEVENT:FALSE
SUMMARY:Legislative Forum
DESCRIPTION:Legislative Forum
X-ALT-DESC;FMTTYPE=text/html:Legislative Forum
LOCATION:Champion Int'l Corp.
UID:e.2754.2243
SEQUENCE:3
DTSTAMP:20260423T031435Z
URL:https://chambermaster.businesscentralmagazine.com/events/details/legislative-forum-01-15-1997-2243
END:VEVENT

END:VCALENDAR
