BEGIN:VCALENDAR
VERSION:2.0
PRODID:-//ChamberMaster//Event Calendar 2.0//EN
METHOD:PUBLISH
X-PUBLISHED-TTL:P3D
REFRESH-INTERVAL:P3D
CALSCALE:GREGORIAN
BEGIN:VEVENT
DTSTART:20241218T133000Z
DTEND:20241218T153000Z
X-MICROSOFT-CDO-ALLDAYEVENT:FALSE
SUMMARY:Legislative Connection 2025: Session Preview Breakfast 12/18/24
DESCRIPTION:The St. Cloud Area Chamber of Commerce invites you to the 2025 Legislative Session Preview Breakfast\, an exclusive opportunity to connect with local legislators and gain insights into the upcoming legislative session.\n\n \n\nWhat to Expect:\n\n \n\n	Legislative Insights: Hear from local legislators about their priorities and expectations for the 2025 session. \n	Ask Questions: Address the issues most critical to your business and gain clarity on legislative actions.\n	Share Your Voice: Highlight the challenges and opportunities facing businesses in the St. Cloud area to ensure they are part of the conversation.\n	Network: Build relationships with elected officials and connect with fellow Chamber members over breakfast.\n\n \n\nStay informed\, voice your concerns\, and strengthen the connection between our business community and local policymakers. Your participation ensures our collective voice is heard as legislators prepare to make decisions that impact the St. Cloud area and beyond.\n\n \n\nRegistration: Space is limited. Secure your spot today!\n\n\n\nRegister online by clicking on the blue "Register" button on the right\, by emailing registrations@StCloudAreaChamber.com or by calling (320) 656-3826.\n\n\n\n\n\nFor sponsorship information\, contact Julie.
X-ALT-DESC;FMTTYPE=text/html:<br />\n<br />\n<span style="font-size:12.0pt\;">The St. Cloud Area Chamber of Commerce invites you to the <strong>2025 Legislative Session Preview Breakfast</strong>\, an exclusive opportunity to connect with local legislators and gain insights into the upcoming legislative session.</span><br />\n&nbsp\;<br />\n<span style="font-size:12.0pt\;">What to Expect:</span><br />\n&nbsp\;\n<ul>\n	<li style="margin-left:0in\;"><span style="font-size:12.0pt\;">Legislative Insights: Hear from local legislators about their priorities and expectations for the 2025 session. </span></li>\n	<li style="margin-left:0in\;"><span style="font-size:12.0pt\;">Ask Questions: Address the issues most critical to your business and gain clarity on legislative actions.</span></li>\n	<li style="margin-left:0in\;"><span style="font-size:12.0pt\;">Share Your Voice: Highlight the challenges and opportunities facing businesses in the St. Cloud area to ensure they are part of the conversation.</span></li>\n	<li style="margin-left:0in\;"><span style="font-size:12.0pt\;">Network: Build relationships with elected officials and connect with fellow Chamber members over breakfast.</span></li>\n</ul>\n&nbsp\;<br />\n<span style="font-size:12.0pt\;">Stay informed\, voice your concerns\, and strengthen the connection between our business community and local policymakers. Your participation ensures our collective voice is heard as legislators prepare to make decisions that impact the St. Cloud area and beyond.</span><br />\n&nbsp\;<br />\n<strong><span style="font-size:12.0pt\;">Registration: Space is limited. Secure your spot today!</span></strong><br />\n<br />\nRegister online by clicking on the blue &quot\;Register&quot\; button on the right\, by emailing <strong><a href="mailto:registrations@StCloudAreaChamber.com?subject=Legislative%20Connection%3A%20Session%20Preview" target="_blank"><span style="color:#0000CD\;">registrations@StCloudAreaChamber.com</span></a></strong>&nbsp\;or by calling (320) 656-3826.<br />\n<br />\n<br />\n<span style="font-size:16px\;"><strong>For sponsorship information\, contact <a href="mailto:jlunning@stcloudareachamber.com">Julie.</a>&nbsp\;</strong></span><br />\n<br />\n<br />\n&nbsp\;
LOCATION:Best Western Kelly Inn 100 4th Ave. S. St. Cloud\, MN 56301-3615
UID:e.2754.11302
SEQUENCE:3
DTSTAMP:20260423T133423Z
URL:https://chambermaster.businesscentralmagazine.com/events/details/legislative-connection-2025-session-preview-breakfast-12-18-24-11302
END:VEVENT

END:VCALENDAR
