BEGIN:VCALENDAR
VERSION:2.0
PRODID:-//ChamberMaster//Event Calendar 2.0//EN
METHOD:PUBLISH
X-PUBLISHED-TTL:P3D
REFRESH-INTERVAL:P3D
CALSCALE:GREGORIAN
BEGIN:VEVENT
DTSTART:19960229T060000Z
DTEND:19960229T060000Z
X-MICROSOFT-CDO-ALLDAYEVENT:FALSE
SUMMARY:''Leap into Area Code 320''
DESCRIPTION:"Leap into Area Code 320"
X-ALT-DESC;FMTTYPE=text/html:"Leap into Area Code 320"
LOCATION:Best Western Kelly Inn
UID:e.2754.2207
SEQUENCE:3
DTSTAMP:20260423T213707Z
URL:https://chambermaster.businesscentralmagazine.com/events/details/leap-into-area-code-320-02-29-1996-2207
END:VEVENT

END:VCALENDAR
