BEGIN:VCALENDAR
VERSION:2.0
PRODID:-//ChamberMaster//Event Calendar 2.0//EN
METHOD:PUBLISH
X-PUBLISHED-TTL:P3D
REFRESH-INTERVAL:P3D
CALSCALE:GREGORIAN
BEGIN:VEVENT
DTSTART;VALUE=DATE:19970522
DTEND;VALUE=DATE:19970523
TRANSP:TRANSPARENT
X-MICROSOFT-CDO-ALLDAYEVENT:TRUE
SUMMARY:Leadership Graduation May 1997
DESCRIPTION:
X-ALT-DESC;FMTTYPE=text/html:
LOCATION:Pirates Cove
UID:e.2754.556
SEQUENCE:3
DTSTAMP:20260422T224341Z
URL:https://chambermaster.businesscentralmagazine.com/events/details/leadership-graduation-may-1997-05-22-1997-556
END:VEVENT

END:VCALENDAR
