BEGIN:VCALENDAR
VERSION:2.0
PRODID:-//ChamberMaster//Event Calendar 2.0//EN
METHOD:PUBLISH
X-PUBLISHED-TTL:P3D
REFRESH-INTERVAL:P3D
CALSCALE:GREGORIAN
BEGIN:VEVENT
DTSTART:19970601T050000Z
DTEND:19970630T050000Z
X-MICROSOFT-CDO-ALLDAYEVENT:FALSE
SUMMARY:June Chamber pak
DESCRIPTION:June Chamber pak
X-ALT-DESC;FMTTYPE=text/html:June Chamber pak
LOCATION:
UID:e.2754.2251
SEQUENCE:3
DTSTAMP:20260422T211317Z
URL:https://chambermaster.businesscentralmagazine.com/events/details/june-chamber-pak-06-01-1997-2251
END:VEVENT

END:VCALENDAR
