BEGIN:VCALENDAR
VERSION:2.0
PRODID:-//ChamberMaster//Event Calendar 2.0//EN
METHOD:PUBLISH
X-PUBLISHED-TTL:P3D
REFRESH-INTERVAL:P3D
CALSCALE:GREGORIAN
BEGIN:VEVENT
DTSTART:19971118T060000Z
DTEND:19971118T060000Z
X-MICROSOFT-CDO-ALLDAYEVENT:FALSE
SUMMARY:Judges Forum
DESCRIPTION:Judges Forum
X-ALT-DESC;FMTTYPE=text/html:Judges Forum
LOCATION:Radisson
UID:e.2754.2276
SEQUENCE:3
DTSTAMP:20260422T134003Z
URL:https://chambermaster.businesscentralmagazine.com/events/details/judges-forum-11-18-1997-2276
END:VEVENT

END:VCALENDAR
