BEGIN:VCALENDAR
VERSION:2.0
PRODID:-//ChamberMaster//Event Calendar 2.0//EN
METHOD:PUBLISH
X-PUBLISHED-TTL:P3D
REFRESH-INTERVAL:P3D
CALSCALE:GREGORIAN
BEGIN:VEVENT
DTSTART;VALUE=DATE:19960312
DTEND;VALUE=DATE:19960313
TRANSP:TRANSPARENT
X-MICROSOFT-CDO-ALLDAYEVENT:TRUE
SUMMARY:JOHN BRANDL/WEBER BREAKFAST
DESCRIPTION:
X-ALT-DESC;FMTTYPE=text/html:
LOCATION:KELLY INN
UID:e.2754.520
SEQUENCE:3
DTSTAMP:20260423T202555Z
URL:https://chambermaster.businesscentralmagazine.com/events/details/john-brandl-weber-breakfast-03-12-1996-520
END:VEVENT

END:VCALENDAR
