BEGIN:VCALENDAR
VERSION:2.0
PRODID:-//ChamberMaster//Event Calendar 2.0//EN
METHOD:PUBLISH
X-PUBLISHED-TTL:P3D
REFRESH-INTERVAL:P3D
CALSCALE:GREGORIAN
BEGIN:VEVENT
DTSTART;VALUE=DATE:19970113
DTEND;VALUE=DATE:19970114
TRANSP:TRANSPARENT
X-MICROSOFT-CDO-ALLDAYEVENT:TRUE
SUMMARY:January 23 Property Tax Reform Forum
DESCRIPTION:
X-ALT-DESC;FMTTYPE=text/html:
LOCATION:St. Cloud Holiday Inn @ 7:30 am
UID:e.2754.539
SEQUENCE:3
DTSTAMP:20260423T044117Z
URL:https://chambermaster.businesscentralmagazine.com/events/details/january-23-property-tax-reform-forum-01-13-1997-539
END:VEVENT

END:VCALENDAR
