BEGIN:VCALENDAR
VERSION:2.0
PRODID:-//ChamberMaster//Event Calendar 2.0//EN
METHOD:PUBLISH
X-PUBLISHED-TTL:P3D
REFRESH-INTERVAL:P3D
CALSCALE:GREGORIAN
BEGIN:VEVENT
DTSTART:19970113T060000Z
DTEND:19970201T060000Z
X-MICROSOFT-CDO-ALLDAYEVENT:FALSE
SUMMARY:January 23 Property Tax Reform Forum
DESCRIPTION:January 23 Property Tax Reform Forum
X-ALT-DESC;FMTTYPE=text/html:January 23 Property Tax Reform Forum
LOCATION:St. Cloud Holiday Inn @ 7:30 am
UID:e.2754.2242
SEQUENCE:3
DTSTAMP:20260423T031812Z
URL:https://chambermaster.businesscentralmagazine.com/events/details/january-23-property-tax-reform-forum-01-13-1997-2242
END:VEVENT

END:VCALENDAR
