BEGIN:VCALENDAR
VERSION:2.0
PRODID:-//ChamberMaster//Event Calendar 2.0//EN
METHOD:PUBLISH
X-PUBLISHED-TTL:P3D
REFRESH-INTERVAL:P3D
CALSCALE:GREGORIAN
BEGIN:VEVENT
DTSTART:19970109T060000Z
DTEND:19970109T060000Z
X-MICROSOFT-CDO-ALLDAYEVENT:FALSE
SUMMARY:Jan. 9\, 1997 Ind. Tour @ Grede Foundries\, Inc. St. Cloud
DESCRIPTION:Jan. 9\, 1997 Ind. Tour @ Grede Foundries\, Inc. St. Cloud
X-ALT-DESC;FMTTYPE=text/html:Jan. 9\, 1997 Ind. Tour @ Grede Foundries\, Inc. St. Cloud
LOCATION:Grede Foundries\, Inc. St. Cloud
UID:e.2754.2228
SEQUENCE:3
DTSTAMP:20260423T044105Z
URL:https://chambermaster.businesscentralmagazine.com/events/details/jan-9-1997-ind-tour-grede-foundries-inc-st-cloud-01-09-1997-2228
END:VEVENT

END:VCALENDAR
