BEGIN:VCALENDAR
VERSION:2.0
PRODID:-//ChamberMaster//Event Calendar 2.0//EN
METHOD:PUBLISH
X-PUBLISHED-TTL:P3D
REFRESH-INTERVAL:P3D
CALSCALE:GREGORIAN
BEGIN:VEVENT
DTSTART:19970116T060000Z
DTEND:19970116T060000Z
X-MICROSOFT-CDO-ALLDAYEVENT:FALSE
SUMMARY:Jan. 16\, 1997 Bes. Enhanc. Sem. (Increase Your Cash Flow)
DESCRIPTION:Jan. 16\, 1997 Bes. Enhanc. Sem. (Increase Your Cash Flow)
X-ALT-DESC;FMTTYPE=text/html:Jan. 16\, 1997 Bes. Enhanc. Sem. (Increase Your Cash Flow)
LOCATION:Michael's Steakhouse
UID:e.2754.2221
SEQUENCE:3
DTSTAMP:20260423T044105Z
URL:https://chambermaster.businesscentralmagazine.com/events/details/jan-16-1997-bes-enhanc-sem-increase-your-cash-flow-01-16-1997-2221
END:VEVENT

END:VCALENDAR
