BEGIN:VCALENDAR
VERSION:2.0
PRODID:-//ChamberMaster//Event Calendar 2.0//EN
METHOD:PUBLISH
X-PUBLISHED-TTL:P3D
REFRESH-INTERVAL:P3D
CALSCALE:GREGORIAN
BEGIN:VEVENT
DTSTART:19971120T060000Z
DTEND:19971120T060000Z
X-MICROSOFT-CDO-ALLDAYEVENT:FALSE
SUMMARY:''Interviewing: How To Do It Efectively & Legally'' 11/20/97
DESCRIPTION:"Interviewing: How To Do It Efectively & Legally" 11/20/97
X-ALT-DESC;FMTTYPE=text/html:"Interviewing: How To Do It Efectively & Legally" 11/20/97
LOCATION:
UID:e.2754.2267
SEQUENCE:3
DTSTAMP:20260422T133324Z
URL:https://chambermaster.businesscentralmagazine.com/events/details/interviewing-how-to-do-it-efectively-legally-11-20-97-11-20-1997-2267
END:VEVENT

END:VCALENDAR
