BEGIN:VCALENDAR
VERSION:2.0
PRODID:-//ChamberMaster//Event Calendar 2.0//EN
METHOD:PUBLISH
X-PUBLISHED-TTL:P3D
REFRESH-INTERVAL:P3D
CALSCALE:GREGORIAN
BEGIN:VEVENT
DTSTART;VALUE=DATE:19971120
DTEND;VALUE=DATE:19971121
TRANSP:TRANSPARENT
X-MICROSOFT-CDO-ALLDAYEVENT:TRUE
SUMMARY:''Interviewing: How To Do It Efectively &
DESCRIPTION:
X-ALT-DESC;FMTTYPE=text/html:
LOCATION:
UID:e.2754.581
SEQUENCE:3
DTSTAMP:20260422T133048Z
URL:https://chambermaster.businesscentralmagazine.com/events/details/interviewing-how-to-do-it-efectively-11-20-1997-581
END:VEVENT

END:VCALENDAR
