BEGIN:VCALENDAR
VERSION:2.0
PRODID:-//ChamberMaster//Event Calendar 2.0//EN
METHOD:PUBLISH
X-PUBLISHED-TTL:P3D
REFRESH-INTERVAL:P3D
CALSCALE:GREGORIAN
BEGIN:VEVENT
DTSTART;VALUE=DATE:19980409
DTEND;VALUE=DATE:19980410
TRANSP:TRANSPARENT
X-MICROSOFT-CDO-ALLDAYEVENT:TRUE
SUMMARY:IndustrialTour of G&J Awning
DESCRIPTION:
X-ALT-DESC;FMTTYPE=text/html:
LOCATION:
UID:e.2754.579
SEQUENCE:3
DTSTAMP:20260420T051317Z
URL:https://chambermaster.businesscentralmagazine.com/events/details/industrialtour-of-g-j-awning-04-09-1998-579
END:VEVENT

END:VCALENDAR
