BEGIN:VCALENDAR
VERSION:2.0
PRODID:-//ChamberMaster//Event Calendar 2.0//EN
METHOD:PUBLISH
X-PUBLISHED-TTL:P3D
REFRESH-INTERVAL:P3D
CALSCALE:GREGORIAN
BEGIN:VEVENT
DTSTART:19981210T060000Z
DTEND:19981210T060000Z
X-MICROSOFT-CDO-ALLDAYEVENT:FALSE
SUMMARY:Industrial Tour of Wiman Corporation
DESCRIPTION:Industrial Tour of Wiman Corporation
X-ALT-DESC;FMTTYPE=text/html:Industrial Tour of Wiman Corporation
LOCATION:
UID:e.2754.2311
SEQUENCE:3
DTSTAMP:20260419T172449Z
URL:https://chambermaster.businesscentralmagazine.com/events/details/industrial-tour-of-wiman-corporation-12-10-1998-2311
END:VEVENT

END:VCALENDAR
